BEGIN:VCALENDAR
VERSION:2.0
PRODID:-//Plone.org//NONSGML plone.app.event//EN
X-WR-TIMEZONE:Europe/Berlin
BEGIN:VEVENT
SUMMARY:Erstellung individueller Powerpoint-Präsentationen
DTSTART;TZID=Europe/Berlin:20071108T010000
DTEND;TZID=Europe/Berlin:20071108T010000
DTSTAMP:20260423T153154Z
UID:2c697192a20c40dba5d2b560b308fa47
CONTACT:Prodekan für Studium und Lehre\, elearning@charite.de\, http://ww
 w.charite.de/elearning/schulungen/workshops.htm
CREATED:20070926T121125Z
DESCRIPTION:Während des Workshops können die Teilnehmer ihren eigenen Po
 werPoint-Master erstellen. Dabei wird verdeutlicht was man bei Präsentati
 onsfolien unterlassen sollte und was man nicht vergessen sollte. Zum Schlu
 ss wandeln Sie Ihre Präsentationsfolien in webfähige Dokumente um. Dabei
  werden auf die Dateigröße und Druckfreundlichkeit geachtet. Im Fokus st
 ehen dabei die Themenschwerpunkte:    Do´s and Dont´s von Präsentations
 folien\, Erstellung eines individuellen Masters     und Komprimierung der 
 Folien in webfähige PDF-Dokumente. Referenten: Claudia Hahn und Sonja Nie
 page. Eine Anmeldung wird erbeten: arbeitsbereich-elearning@charite.de
LAST-MODIFIED:20170315T151033Z
LOCATION:Berlin/Charité
URL:https://www.e-teaching.org/news/termine/weiterbildung/powerpoint
END:VEVENT
BEGIN:VTIMEZONE
TZID:Europe/Berlin
X-LIC-LOCATION:Europe/Berlin
BEGIN:STANDARD
DTSTART:20071028T020000
TZNAME:CET
TZOFFSETFROM:+0200
TZOFFSETTO:+0100
END:STANDARD
END:VTIMEZONE
END:VCALENDAR
