BEGIN:VCALENDAR
VERSION:2.0
PRODID:-//Plone.org//NONSGML plone.app.event//EN
X-WR-TIMEZONE:Europe/Berlin
BEGIN:VEVENT
SUMMARY:Serious Games: Spielend leicht(er) lernen?
DTSTART;TZID=Europe/Berlin:20170718T153000
DTEND;TZID=Europe/Berlin:20170718T173000
DTSTAMP:20260422T154914Z
UID:536743858c7942b0b4f4eec9e7351257@pele-back.dmz.iwm-kmrc.de:10081
CATEGORIES:Serious Game,Serious Games
CONTACT:Michael Eichhorn\, eichhorn@studiumdigitale.uni-frankfurt.de\, htt
 ps://anmeldung.studiumdigitale.uni-frankfurt.de/allgemein/index.php?verans
 taltung=mmw180717
CREATED:20170221T103953Z
DESCRIPTION:In dieser MultimediaWerkstatt dreht sich alles um Spiele. Inwi
 efern kann man spielend lernen? Was gibt es für Voraussetzungen und Techn
 iken und wie ist der aktuelle Forschnungsstand dazu?
LAST-MODIFIED:20170315T150945Z
LOCATION:Goethe-Universität Frankfurt\, Campus Bockenheim\, Varrentrappst
 r. 40-42\, Medienseminarraum 309\, 3. Stock.
URL:https://www.e-teaching.org/news/termine/weiterbildung/serious-games-sp
 ielend-leicht-er-lernen
END:VEVENT
BEGIN:VTIMEZONE
TZID:Europe/Berlin
X-LIC-LOCATION:Europe/Berlin
BEGIN:DAYLIGHT
DTSTART:20170326T030000
TZNAME:CEST
TZOFFSETFROM:+0100
TZOFFSETTO:+0200
END:DAYLIGHT
END:VTIMEZONE
END:VCALENDAR
