BEGIN:VCALENDAR
VERSION:2.0
PRODID:-//Plone.org//NONSGML plone.app.event//EN
X-WR-TIMEZONE:Europe/Berlin
BEGIN:VEVENT
SUMMARY:Strategisches Informationsmanagement
DTSTART;TZID=Europe/Berlin:20071129T010000
DTEND;TZID=Europe/Berlin:20071129T010000
DTSTAMP:20260423T153317Z
UID:66df7c73c6704b0496a2073339a550ac
CONTACT:http://zfh.uni-duisburg-essen.de/wsim07
CREATED:20071024T134850Z
DESCRIPTION:Die aktuellen Hochschulreformen verlangen nach einem strategis
 chen hochschulmanagement. Dies hat Implikationen für die die Kernprozesse
  Forschung und Lehre\, etwa: die Forderung nach Profilbildung\, Differenzi
 erung und Evaluation. Doch welche Konsquenzen hat dies für den Bereich "I
 nformation\, Kommunikation\, Medien" an Hochschulen? Bleiben "Informations
 versorgung und -verarbeitung" im Hochschulbereich nachrangige Services ode
 r tragen sie selbst zur strategischen Entwicklung von Hochschulen bei? Was
  wären dann Konsequenzen an ein strategisches Informationsmanagement an H
 ochschulen? \n\nZielgruppe: Personen\, die sich für Informationsmanagemen
 t in Hochschulen interessieren\, Führungskräfte und Mitarbeitende aus Se
 rviceeinrichtungen\, Hochschulleitungen\; Externe aus Unternehmen\, die Be
 ratung und Dienstleistungen für Hochschulen anbieten.\n\nVeranstalter ist
  das Department für Weiterbildungsforschung und Bildungsmanagement der\nD
 onau-Universität Krems am Zentrum für Hochschul- und Qualitätsentwicklu
 ng / GB E-Learning der Universität Duisburg-Essen.
LAST-MODIFIED:20170315T151033Z
LOCATION:Universität Duisburg-Essen\, Duisburg Learning Lab
URL:https://www.e-teaching.org/news/termine/weiterbildung/strateg_informat
 ionsmanagement
END:VEVENT
BEGIN:VTIMEZONE
TZID:Europe/Berlin
X-LIC-LOCATION:Europe/Berlin
BEGIN:STANDARD
DTSTART:20071028T020000
TZNAME:CET
TZOFFSETFROM:+0200
TZOFFSETTO:+0100
END:STANDARD
END:VTIMEZONE
END:VCALENDAR
