BEGIN:VCALENDAR
VERSION:2.0
PRODID:-//Plone.org//NONSGML plone.app.event//EN
X-WR-TIMEZONE:Europe/Berlin
BEGIN:VEVENT
SUMMARY:Strategien der Digitalisierung
DTSTART;TZID=Europe/Berlin:20170327T100000
DTEND;TZID=Europe/Berlin:20170327T160000
DTSTAMP:20260423T163124Z
UID:578ca41939264be89f019c8ab0108eb0@pele-back.dmz.iwm-kmrc.de:10081
CONTACT:http://mediendidaktik.uni-due.de/elnrw/StrategienDigitalisierung
CREATED:20170117T105254Z
DESCRIPTION:In diesem Workshop in Essen werden praktische Vorschläge zur 
 individuellen Gestaltung einer Digitalisierungsstrategie für Studium und 
 Lehre erarbeitet werden.
LAST-MODIFIED:20170315T153233Z
LOCATION:Learning Lab am Campus Essen\, Raum S06 S00 A46 (im EG)
URL:https://www.e-teaching.org/news/termine/weiterbildung/strategien-der-d
 igitalisierung
END:VEVENT
BEGIN:VTIMEZONE
TZID:Europe/Berlin
X-LIC-LOCATION:Europe/Berlin
BEGIN:DAYLIGHT
DTSTART:20170326T030000
TZNAME:CEST
TZOFFSETFROM:+0100
TZOFFSETTO:+0200
END:DAYLIGHT
END:VTIMEZONE
END:VCALENDAR
