BEGIN:VCALENDAR
VERSION:2.0
PRODID:-//Plone.org//NONSGML plone.app.event//EN
X-WR-TIMEZONE:Europe/Berlin
BEGIN:VEVENT
SUMMARY:Transferorientierte Gestaltung von Bildungsmassnahmen
DTSTART;TZID=Europe/Berlin:20070913T020000
DTEND;TZID=Europe/Berlin:20070914T020000
DTSTAMP:20260423T040415Z
UID:dc7072ac7f5b4ad2bac509444fb6f5dc
CONTACT:Karen Kaspar\, karen.kaspar@unisg.ch\, http://www.scil.ch/seminars
 /scil-fokussem-0704-en.html
CREATED:20070705T145512Z
DESCRIPTION:Ausgangspunkt dieses Fokusseminars ist ein integrativer Ansatz
  der Kompetenzentwicklung (Einbindung informeller Lernformen)\, mit welche
 n neue Herausforderungen für die Organisation und Gestaltung der Rahmenbe
 dingungen von Aus- und Weiterbildung verbunden sind. Die Gestaltung einer 
 zielgerichteten Transferförderung beginnt dabei bereits vor der Bildungsm
 assnahme und erfordert die Gestaltung von Transferelementen am Arbeitsplat
 z zusammen mit den Teilnehmern\, deren Vorgesetzten und dem Bildungsperson
 al. Mögliche Formen und Herangehensweisen der Transferevaluation werden a
 nhand konkreter Praxisfälle vorgestellt. Referenten: Prof. Dr. Dieter Eul
 er\, Prof. Dr. Sabine Seufert und Jasmina Hasanbegovic.
LAST-MODIFIED:20170315T151032Z
LOCATION:St. Gallen/SCIL
URL:https://www.e-teaching.org/news/termine/weiterbildung/transfer_gestalt
 ung
END:VEVENT
BEGIN:VTIMEZONE
TZID:Europe/Berlin
X-LIC-LOCATION:Europe/Berlin
BEGIN:DAYLIGHT
DTSTART:20070325T030000
TZNAME:CEST
TZOFFSETFROM:+0100
TZOFFSETTO:+0200
END:DAYLIGHT
END:VTIMEZONE
END:VCALENDAR
