BEGIN:VCALENDAR
VERSION:2.0
PRODID:-//Plone.org//NONSGML plone.app.event//EN
X-WR-TIMEZONE:Europe/Berlin
BEGIN:VEVENT
SUMMARY:Workshop "E-Learning - Chancen für die Lehre"
DTSTART;TZID=Europe/Berlin:20071114T010000
DTEND;TZID=Europe/Berlin:20071114T010000
DTSTAMP:20260423T153123Z
UID:1ac33f5ed92a42acba170e123b3e0955
CONTACT:E-Learning-Service der Universität Leipzig\, elearning@uni-leipzi
 g.de\, http://www.uni-leipzig.de/medienportal/workshop_07/index.html
CREATED:20071012T075718Z
DESCRIPTION:Noch spielt E-Learning an der Universität Leipzig eine eher u
 ntergeordnete Rolle. Dennoch existieren eine ganze Reihe von Lehrveranstal
 tungen\, die in unterschiedlichem Maße die klassischen Lehr- und Lernproz
 esse durch die Integration von E- und Blended Learning ergänzen. Dieser W
 orkshop möchte an Hand von konkreten Beispielen aus verschiedenen Fachber
 eichen diese neuen Chancen für die Lehre aufzeigen.\n\nDer Workshop biete
 t zudem die Möglichkeit zum Erfahrungsaustausch und Raum für Diskussione
 n. Eine Podiumsdiskussion mit den Gastreferenten und Vertretern der Univer
 sität Leipzig wird den Tag abschließen.\n\nDie Veranstaltung richtet sic
 h an alle Lehrenden\, Lernenden und ExpertInnen\, die an einer Weiterentwi
 cklung im Bereich des Lehrens und Lernens mit den Neuen Medien interessier
 t sind.
LAST-MODIFIED:20170315T151033Z
LOCATION:Universität Leipzig
URL:https://www.e-teaching.org/news/termine/weiterbildung/workshop_e_learn
 ing
END:VEVENT
BEGIN:VTIMEZONE
TZID:Europe/Berlin
X-LIC-LOCATION:Europe/Berlin
BEGIN:STANDARD
DTSTART:20071028T020000
TZNAME:CET
TZOFFSETFROM:+0200
TZOFFSETTO:+0100
END:STANDARD
END:VTIMEZONE
END:VCALENDAR
