BEGIN:VCALENDAR
VERSION:2.0
PRODID:-//Plone.org//NONSGML plone.app.event//EN
X-WR-TIMEZONE:Europe/Berlin
BEGIN:VEVENT
SUMMARY:Zukunftsdialog KI & Recht - Perspektiven für Wirtschaft\,  Wissen
 schaft und Gesellschaft
DTSTART;TZID=Europe/Berlin:20260219T163000
DTEND;TZID=Europe/Berlin:20260219T180000
DTSTAMP:20260423T110126Z
UID:353cad30b01e4f7e9ca26123d307e288@www.e-teaching.org
CONTACT:Prof. Dr. jur. Carolin Sutter\, https://www.srh-university.de/de/z
 ukunftsdialog-ki-recht/#c218960
CREATED:20260210T101834Z
DESCRIPTION:Der Zukunftsdialog KI & Recht an der SRH University bietet ein
 e interdisziplinäre Plattform für Orientierung\, Austausch und kritische
  Reflexion. Bei der zweiten Veranstaltung der Veranstaltungsreihe am 19. F
 ebruar 2026 wird das Thema "Verantwortung & Haftung im KI-Zeitalter" im Vo
 rdergrund stehen.
LAST-MODIFIED:20260211T062035Z
LOCATION:On Campus SRH University Heidelberg\, Ludwig-Guttmann-Str. 6 und 
 Online über MS Teams
URL:https://www.e-teaching.org/news/termine/zukunftsdialog-ki-recht-perspe
 ktiven-fuer-wirtschaft-wissenschaft-und-gesellschaft
END:VEVENT
BEGIN:VTIMEZONE
TZID:Europe/Berlin
X-LIC-LOCATION:Europe/Berlin
BEGIN:STANDARD
DTSTART:20251026T020000
TZNAME:CET
TZOFFSETFROM:+0200
TZOFFSETTO:+0100
END:STANDARD
END:VTIMEZONE
END:VCALENDAR
